BEGIN:VCALENDAR
VERSION:2.0
PRODID:-//Caboolture Guide - ECPv6.15.20//NONSGML v1.0//EN
CALSCALE:GREGORIAN
METHOD:PUBLISH
X-ORIGINAL-URL:https://cabooltureguide.com.au
X-WR-CALDESC:Events for Caboolture Guide
REFRESH-INTERVAL;VALUE=DURATION:PT1H
X-Robots-Tag:noindex
X-PUBLISHED-TTL:PT1H
BEGIN:VTIMEZONE
TZID:Australia/Brisbane
BEGIN:STANDARD
TZOFFSETFROM:+1000
TZOFFSETTO:+1000
TZNAME:AEST
DTSTART:20250101T000000
END:STANDARD
END:VTIMEZONE
BEGIN:VEVENT
DTSTART;TZID=Australia/Brisbane:20260418T203000
DTEND;TZID=Australia/Brisbane:20260418T203000
DTSTAMP:20260418T172815
CREATED:20250119T005320Z
LAST-MODIFIED:20260313T133503Z
UID:10004148-1776544200-1776544200@cabooltureguide.com.au
SUMMARY:KT Maree at Caboolture Sports Club
DESCRIPTION:Katelin Maree is both an Acoustic soloist and DJ\, based on the Sunshine Coast she travels far and wide around Queensland performing regular gigs. A bold and confident artist\, Katelin loves to take her audience on a journey\, to bring people together and create amazing moments.
URL:https://cabooltureguide.com.au/event/kt-maree-at-caboolture-sports-club/
LOCATION:Caboolture Sports Club\, 19-27 Station Rd\, Morayfield\, QLD\, 4506\, Australia
ATTACH;FMTTYPE=image/jpeg:https://cabooltureguide.com.au/wp-content/uploads/2025/01/KT-Maree-at-North-Lakes-Library.jpg
END:VEVENT
BEGIN:VEVENT
DTSTART;TZID=Australia/Brisbane:20260424T173000
DTEND;TZID=Australia/Brisbane:20260424T173000
DTSTAMP:20260418T172815
CREATED:20240713T234717Z
LAST-MODIFIED:20260313T133601Z
UID:10004022-1777051800-1777051800@cabooltureguide.com.au
SUMMARY:Simone Cutting at Caboolture Sports Club
DESCRIPTION:A talented singer and acoustic guitarist\, Simone has a very extensive and broad collection of songs from the 50’s to now. \nShe is interactive with audiences and knows how to engage a crowd. \nHer very personable demeanour and zest for life makes every performance a memorable and enjoyable occasion!
URL:https://cabooltureguide.com.au/event/simone-cutting-at-caboolture-sports-club/
LOCATION:Caboolture Sports Club\, 19-27 Station Rd\, Morayfield\, QLD\, 4506\, Australia
ATTACH;FMTTYPE=image/jpeg:https://cabooltureguide.com.au/wp-content/uploads/2024/07/Simone-Cutting-2.jpg
END:VEVENT
BEGIN:VEVENT
DTSTART;TZID=Australia/Brisbane:20260425T210000
DTEND;TZID=Australia/Brisbane:20260425T210000
DTSTAMP:20260418T172815
CREATED:20260313T134019Z
LAST-MODIFIED:20260313T134019Z
UID:10006345-1777150800-1777150800@cabooltureguide.com.au
SUMMARY:The Upside at Caboolture Sports Club
DESCRIPTION:The Upside Duo offers classy\, professional and soulful vocals singing a wide repertoire of classics from the 1940’s to now. She is extremely versatile in that she can provide an entire show of jazz\, lounge\, Motown\, 60’s\, pop\, disco\, rockabilly or combine all genres to cater to an audience of all ages and tastes. Performing with high quality backing tracks and accompanied by an acoustic guitarist.
URL:https://cabooltureguide.com.au/event/the-upside-at-caboolture-sports-club/
LOCATION:Sports Central Caboolture\, Corner of Hasking Street and\, Beerburrum Rd\, Caboolture\, QLD\, 4510\, Australia
ATTACH;FMTTYPE=image/jpeg:https://cabooltureguide.com.au/wp-content/uploads/2025/11/The-Upside.jpg
END:VEVENT
BEGIN:VEVENT
DTSTART;TZID=Australia/Brisbane:20260510T073000
DTEND;TZID=Australia/Brisbane:20260510T093000
DTSTAMP:20260418T172815
CREATED:20260407T095601Z
LAST-MODIFIED:20260407T095601Z
UID:10006360-1778398200-1778405400@cabooltureguide.com.au
SUMMARY:Mothers Day Buffet Breakfast | Caboolture Sports Club
DESCRIPTION:Treat Mum this Mother’s Day! \nThis Mother’s Day\, spoil the most important person in your life with a beautiful all-you-can-eat buffet breakfast at Caboolture Sports Club — the perfect way to start the day together. \nJoin the celebration at the stunning Café Kabu and Amoray Cocktail Lounge for a gorgeous spread of hot and cold favourites\, served with coffee\, tea and juice. Bring the whole family and create memories that’ll last long after the last pancake is gone! \nTICKETS \nAdults (members) — $39 Adults (non-members) — $44 Kids aged 3–12 — $20 Kids under 3 — FREE \nTickets are available through TryBooking or by speaking with the friendly team in the foyer. Seats are limited so don’t wait — book yours before they sell out!
URL:https://cabooltureguide.com.au/event/mothers-day-buffet-breakfast-caboolture-sports-club/
LOCATION:Caboolture Sports Club\, 19-27 Station Rd\, Morayfield\, QLD\, 4506\, Australia
ATTACH;FMTTYPE=image/jpeg:https://cabooltureguide.com.au/wp-content/uploads/2026/04/Mothers-Day-Buffet-Guides-Listing.jpg
END:VEVENT
END:VCALENDAR