BEGIN:VCALENDAR
VERSION:2.0
PRODID:-//Caboolture Guide - ECPv6.15.20//NONSGML v1.0//EN
CALSCALE:GREGORIAN
METHOD:PUBLISH
X-WR-CALNAME:Caboolture Guide
X-ORIGINAL-URL:https://cabooltureguide.com.au
X-WR-CALDESC:Events for Caboolture Guide
REFRESH-INTERVAL;VALUE=DURATION:PT1H
X-Robots-Tag:noindex
X-PUBLISHED-TTL:PT1H
BEGIN:VTIMEZONE
TZID:Australia/Brisbane
BEGIN:STANDARD
TZOFFSETFROM:+1000
TZOFFSETTO:+1000
TZNAME:AEST
DTSTART:20250101T000000
END:STANDARD
END:VTIMEZONE
BEGIN:VEVENT
DTSTART;TZID=Australia/Brisbane:20260427T103000
DTEND;TZID=Australia/Brisbane:20260427T113000
DTSTAMP:20260421T145935
CREATED:20260313T152458Z
LAST-MODIFIED:20260313T152458Z
UID:10006355-1777285800-1777289400@cabooltureguide.com.au
SUMMARY:Scam awareness and prevention of identity theft | Caboolture Library
DESCRIPTION:Join us for an information session that will provide you with valuable tips on identifying scams and keeping your personal information safe online. Presented by Services Australia. Free. Bookings required. For adults.
URL:https://cabooltureguide.com.au/event/scam-awareness-and-prevention-of-identity-theft-at-caboolture-library/
LOCATION:Caboolture Library\, 4 Hasking St\, Caboolture\, QLD\, 4510\, Australia
ATTACH;FMTTYPE=image/jpeg:https://cabooltureguide.com.au/wp-content/uploads/2026/03/Scam-awareness-and-prevention-of-identity-theft-Caboolture-Library.jpg
END:VEVENT
END:VCALENDAR