BEGIN:VCALENDAR
VERSION:2.0
PRODID:-//Caboolture Guide - ECPv6.15.20//NONSGML v1.0//EN
CALSCALE:GREGORIAN
METHOD:PUBLISH
X-ORIGINAL-URL:https://cabooltureguide.com.au
X-WR-CALDESC:Events for Caboolture Guide
REFRESH-INTERVAL;VALUE=DURATION:PT1H
X-Robots-Tag:noindex
X-PUBLISHED-TTL:PT1H
BEGIN:VTIMEZONE
TZID:Australia/Brisbane
BEGIN:STANDARD
TZOFFSETFROM:+1000
TZOFFSETTO:+1000
TZNAME:AEST
DTSTART:20250101T000000
END:STANDARD
END:VTIMEZONE
BEGIN:VEVENT
DTSTART;TZID=Australia/Brisbane:20260517T110000
DTEND;TZID=Australia/Brisbane:20260517T160000
DTSTAMP:20260420T075128
CREATED:20260408T113735Z
LAST-MODIFIED:20260414T030702Z
UID:10006361-1779015600-1779033600@cabooltureguide.com.au
SUMMARY:Cruisin Caboolture | James Street Precinct
DESCRIPTION:CRUISIN’ CABOOLTURE IS BACK!   \nStart your engines! Cruisin’ Caboolture returns on Sunday 17 May from 11am – 4pm\, bringing a huge afternoon of classic cars\, tough builds\, motorcycles\, live entertainment\, food and fun to the James Street Precinct. \nThis free\, all-ages event celebrates car culture and community\, with an incredible lineup of vehicles on display alongside live music\, market stalls and activities for the whole family. \nWhether you’re a car enthusiast\, bringing the family\, or just looking for a great Sunday afternoon out\, Cruisin’ Caboolture is the perfect place to spend the day. \nSHOW ’N’ SHINE VEHICLE SHOWCASE \nThe heart of Cruisin’ Caboolture is the Show ’n’ Shine\, where an impressive lineup of classics\, customs\, modern builds and motorcycles will be on display. \nWith over $2\,000 in cash prizes and trophies\, this judged competition celebrates the craftsmanship\, detail and passion behind every vehicle. \nAward Categories \n\nBest Car of the Show\nRunner-Up Best Car of the Show\nTuffest Car of the Show\nBest Classic (Pre-1996)\nBest Modern (1996 onwards)\nBest Motorcycle\nBest Engine Bay\nBest Paint & Panel\nJudges’ Choice\nThe Adam Hain Award – Councillor’s Choice\nPeople’s Choice\n\nVehicle registrations are pre-registration only and will close once capacity is reached. \nRegistration cost: $12 per vehicle / motorcycle \nRegister here: \nhttps://events.humanitix.com/cruisin-caboolture-2026/tickets \nWHAT ELSE TO EXPECT \n\nLive music and entertainment\nFood trucks and local vendors\nLicensed bar\nMarket stalls and merchandise\nFeature engine start-ups\nFree kids activities\n\nProudly presented by the City of Moreton Bay
URL:https://cabooltureguide.com.au/event/cruisin-caboolture-james-street-precinct/
LOCATION:James Street Precinct\, James st\, Caboolture\, 4510
ATTACH;FMTTYPE=image/jpeg:https://cabooltureguide.com.au/wp-content/uploads/2026/04/Cruisin-Caboolture-2023-3-v2_1200x680.jpg
ORGANIZER;CN="Mask Events":MAILTO:https://www.maskevents.com.au/
END:VEVENT
END:VCALENDAR